BEGIN:VCALENDAR
VERSION:2.0
PRODID:-//Kemfer - ECPv6.15.5//NONSGML v1.0//EN
CALSCALE:GREGORIAN
METHOD:PUBLISH
X-WR-CALNAME:Kemfer
X-ORIGINAL-URL:https://elastic-torvalds.185-59-211-253.plesk.page
X-WR-CALDESC:Events for Kemfer
REFRESH-INTERVAL;VALUE=DURATION:PT1H
X-Robots-Tag:noindex
X-PUBLISHED-TTL:PT1H
BEGIN:VTIMEZONE
TZID:Europe/Helsinki
BEGIN:DAYLIGHT
TZOFFSETFROM:+0200
TZOFFSETTO:+0300
TZNAME:EEST
DTSTART:20250330T010000
END:DAYLIGHT
BEGIN:STANDARD
TZOFFSETFROM:+0300
TZOFFSETTO:+0200
TZNAME:EET
DTSTART:20251026T010000
END:STANDARD
END:VTIMEZONE
BEGIN:VEVENT
DTSTART;TZID=Europe/Helsinki:20250902T080000
DTEND;TZID=Europe/Helsinki:20250902T130000
DTSTAMP:20260420T235735
CREATED:20250823T235225Z
LAST-MODIFIED:20250823T235250Z
UID:568-1756800000-1756818000@elastic-torvalds.185-59-211-253.plesk.page
SUMMARY:Ünnepélyes Tanévnyitó
DESCRIPTION:Szeretettel várunk minden diákot\, szülőt és pedagógust az ünnepélyes tanévnyitó rendezvényünkre\, melyre 2025. szeptember 2-án\, hétfőn 8:00 órakor kerül sor az iskola udvarán. Az esemény során köszöntőt mond az igazgató\, bemutatkoznak az új tanárok\, és rövid műsorral készülnek diákjaink. Kérjük\, hogy a tanulók alkalomhoz illő ruhában érkezzenek.Az új tanév rengeteg izgalmas kihívást és lehetőséget tartogat\, kezdjük együtt jó hangulatban!
URL:https://elastic-torvalds.185-59-211-253.plesk.page/esemeny/unnepelyes-tanevnyito/
CATEGORIES:Tanévnyitó
ATTACH;FMTTYPE=image/jpeg:https://elastic-torvalds.185-59-211-253.plesk.page/wp-content/uploads/2025/08/portrait-of-happy-school-kids-with-their-teacher-i-2024-12-13-19-33-29-utc-scaled.jpg
END:VEVENT
END:VCALENDAR